BEGIN:VCALENDAR
VERSION:2.0
PRODID:-//Plone.org//NONSGML plone.app.event//EN
X-WR-TIMEZONE:Europe/Berlin
BEGIN:VEVENT
SUMMARY:Evento
DTSTART;VALUE=DATE:20251218
DTEND;VALUE=DATE:20251219
DTSTAMP:20260419T220841Z
UID:2b83e5f6ed104c07a5155fcab368bdd2@plone6.unife.it:8059
CREATED:20251028T084251Z
LAST-MODIFIED:20251028T084618Z
URL:https://docpas.unife.it/it/iniziative/evento
END:VEVENT
END:VCALENDAR
